BEGIN:VCALENDAR
VERSION:2.0
PRODID:-//All Events Kampala - ECPv6.13.0//NONSGML v1.0//EN
CALSCALE:GREGORIAN
METHOD:PUBLISH
X-ORIGINAL-URL:https://allevents.ug
X-WR-CALDESC:Events for All Events Kampala
REFRESH-INTERVAL;VALUE=DURATION:PT1H
X-Robots-Tag:noindex
X-PUBLISHED-TTL:PT1H
BEGIN:VTIMEZONE
TZID:Europe/Moscow
BEGIN:STANDARD
TZOFFSETFROM:+0300
TZOFFSETTO:+0300
TZNAME:MSK
DTSTART:20250101T000000
END:STANDARD
END:VTIMEZONE
BEGIN:VEVENT
DTSTART;TZID=Europe/Moscow:20250628T120000
DTEND;TZID=Europe/Moscow:20250628T233000
DTSTAMP:20260421T070425
CREATED:20250608T105635Z
LAST-MODIFIED:20250608T105635Z
UID:23879-1751112000-1751153400@allevents.ug
SUMMARY:Yenze Hip-Hop Cultural Fest
DESCRIPTION:YENZE HIP-HOP CULTURAL FEST 2025 is not just an event—it’s a celebration of culture\, creativity\, and community. Organised by Swahili Nation Africa\, this groundbreaking festival will be the first of its kind in Uganda\, uniting music\, dance\, fashion\, art\, and technology in one unforgettable day. \nBut that’s not all—this is more than music. It’s about connection\, innovation\, and cultural pride. Whether you’re a die-hard hip-hop head or simply curious about the scene\, this is the place to be. \n🎤 Highlights: \n✅ Electrifying performances from top Ugandan and African hip-hop artists including GNL Zamba\, Ffefe Busi and more.✅ Interactive showcases blending music\, art\, fashion\, and tech✅ A full day of culture\, vibes\, and unforgettable memories \n🎟 Tickets: \n\n\nGeneral: UGX 30\,000 \n\n\nVIP Table of Six: UGX 1\,000\,000 \n\n\n📍 Venue: Lugogo Cricket Oval\, Kampala🕛 Time: From noon till late \nMark your calendar and come experience Yenze Hip-Hop Cultural Fest.
URL:https://allevents.ug/event/yenze-hip-hop-cultural-fest/
LOCATION:LUGOGO CRICKET OVAL\, LUGOGO\, KAMPALA\, KAMPALA\, 256\, Uganda
CATEGORIES:Festival
ATTACH;FMTTYPE=image/webp:https://allevents.ug/wp-content/uploads/2025/06/0740149_0.webp
END:VEVENT
END:VCALENDAR