BEGIN:VCALENDAR
VERSION:2.0
PRODID:-//All Events Kampala - ECPv6.13.0//NONSGML v1.0//EN
CALSCALE:GREGORIAN
METHOD:PUBLISH
X-WR-CALNAME:All Events Kampala
X-ORIGINAL-URL:https://allevents.ug
X-WR-CALDESC:Events for All Events Kampala
REFRESH-INTERVAL;VALUE=DURATION:PT1H
X-Robots-Tag:noindex
X-PUBLISHED-TTL:PT1H
BEGIN:VTIMEZONE
TZID:Europe/Moscow
BEGIN:STANDARD
TZOFFSETFROM:+0300
TZOFFSETTO:+0300
TZNAME:MSK
DTSTART:20250101T000000
END:STANDARD
END:VTIMEZONE
BEGIN:VEVENT
DTSTART;TZID=Europe/Moscow:20250823T170000
DTEND;TZID=Europe/Moscow:20250823T233000
DTSTAMP:20260420T143707
CREATED:20250820T075138Z
LAST-MODIFIED:20250820T085012Z
UID:24997-1755968400-1755991800@allevents.ug
SUMMARY:100% Live Classic Soul-RnB at Zone 7
DESCRIPTION:Zone 7 brings you a night of pure soul and rhythm on Saturday\, 23rd August 2026\, with the 100% Live Classic Soul-RnB experience. \n🎶 Featuring:✅ BlackRoots Academy of Soul – delivering powerful and soulful vocals✅ BlackRoots Unlimited – setting the mood with smooth live instrumentation \nTogether\, they will deliver a soulful journey through timeless Soul and RnB classics that will leave the crowd wanting more. \n🍹 Evening Line-up: \n\n\nGates open: 5 PM – 8 PM (Happy Hour) \n\n\nPerformances: 8 PM – 11 PM \n\n\n🎟️ Tickets: \n\n\nRegular: 30K (Available on Quicket.co.ug) \n\n\nTable of 4: 200K (Includes food) \n\n\nTable of 4: 400K (Includes food + wine\, gin\, bubbly\, whiskey\, or tequila) \n\n\n📞 Table Reservations:0701 680004 | 0772 042920 | 0788 921462 \nThis show promises the perfect blend of good music\, great company\, and timeless vibes. Join us at Zone 7\, Mbuya\, and keep live music alive!
URL:https://allevents.ug/event/100-live-classic-soul-rnb-at-zone-7/
LOCATION:Zone 7\, Mbuya\, Kampala\, Uganda
CATEGORIES:Show
ATTACH;FMTTYPE=image/webp:https://allevents.ug/wp-content/uploads/2025/08/WhatsApp-Image-2025-08-19-at-16.19.24.webp
END:VEVENT
END:VCALENDAR