BEGIN:VCALENDAR
VERSION:2.0
PRODID:-//All Events Kampala - ECPv6.13.0//NONSGML v1.0//EN
CALSCALE:GREGORIAN
METHOD:PUBLISH
X-ORIGINAL-URL:https://allevents.ug
X-WR-CALDESC:Events for All Events Kampala
REFRESH-INTERVAL;VALUE=DURATION:PT1H
X-Robots-Tag:noindex
X-PUBLISHED-TTL:PT1H
BEGIN:VTIMEZONE
TZID:Europe/Moscow
BEGIN:STANDARD
TZOFFSETFROM:+0300
TZOFFSETTO:+0300
TZNAME:MSK
DTSTART:20260101T000000
END:STANDARD
END:VTIMEZONE
BEGIN:VEVENT
DTSTART;TZID=Europe/Moscow:20260422T080000
DTEND;TZID=Europe/Moscow:20260422T170000
DTSTAMP:20260423T005845
CREATED:20260422T122513Z
LAST-MODIFIED:20260422T122513Z
UID:28242-1776844800-1776877200@allevents.ug
SUMMARY:Retro Wave
DESCRIPTION:Get ready to dust off your dancing shoes because Retro Wave 3 is back with another unforgettable night of music\, nostalgia\, and timeless energy. On Saturday\, June 13\, 2026\, Ark Gardens in Akright City will transform into the ultimate retro party destination. \nThis year’s theme\, Out of Time\, Back in Time\, invites guests to step away from the present and dive straight into the golden era of legendary hits and classic style. Whether you love old school music or enjoy vintage fashion\, Retro Wave 3 promises the perfect atmosphere for an exciting night under the stars. \nExpect a vibrant crowd\, classic retro vibes\, and a soundtrack packed with unforgettable throwback tunes. In addition\, the beautiful setting at Ark Gardens will make the experience even more special. \nIf you want a night filled with dancing\, nostalgia\, and good energy\, Retro Wave 3 is the place to be. \n📅 Date: Saturday\, June 13\, 2026⏰ Time: From evening till late📍 Venue: Ark Gardens\, Akright City📞 Reservations: 0788161622 \nEarly Bird tickets are available at USh 45\,000. \nOrdinary tickets are available at USh 70\,000. \nGuests who want a more exclusive experience can book a table for five people at USh 600\,000. Each table comes with a bottle of premium whiskey or wine. \nTickets are available here  \nRetro Wave  proudly partners with Housing Finance Bank — making it easy for you to enjoy a night you will never forget.
URL:https://allevents.ug/event/retro-wave/
LOCATION:Ark Gardens\, Arkright City\, Entebbe\, Uganda
CATEGORIES:Show
ATTACH;FMTTYPE=image/webp:https://allevents.ug/wp-content/uploads/2026/04/IMG_3043.webp
END:VEVENT
END:VCALENDAR