BEGIN:VCALENDAR
VERSION:2.0
PRODID:-//All Events Kampala - ECPv6.13.0//NONSGML v1.0//EN
CALSCALE:GREGORIAN
METHOD:PUBLISH
X-ORIGINAL-URL:https://allevents.ug
X-WR-CALDESC:Events for All Events Kampala
REFRESH-INTERVAL;VALUE=DURATION:PT1H
X-Robots-Tag:noindex
X-PUBLISHED-TTL:PT1H
BEGIN:VTIMEZONE
TZID:Europe/Moscow
BEGIN:STANDARD
TZOFFSETFROM:+0300
TZOFFSETTO:+0300
TZNAME:MSK
DTSTART:20260101T000000
END:STANDARD
END:VTIMEZONE
BEGIN:VEVENT
DTSTART;TZID=Europe/Moscow:20260322T120000
DTEND;TZID=Europe/Moscow:20260322T233000
DTSTAMP:20260420T161822
CREATED:20260302T151642Z
LAST-MODIFIED:20260302T151642Z
UID:27442-1774180800-1774222200@allevents.ug
SUMMARY:Roast and Rhyme Reggae Ragga Nyam Nyam Edition
DESCRIPTION:This March 22nd\, Roast and Rhyme Reggae Ragga Nyam Nyam Edition returns to Lugogo Hockey Grounds with an unforgettable experience. This time\, the event brings together reggae and ragga lovers for a day full of energy\, flavor\, and rhythm. \nFirst\, guests will enjoy perfectly roasted meats and delicious food selections. In addition\, the event will serve refreshing drinks to keep the vibes flowing all day. Meanwhile\, Kampala’s best entertainers will take the stage and deliver nonstop music and performances. \nAs always\, Swangz Avenue has designed this edition to celebrate good music\, great food\, and vibrant community moments. Therefore\, you can expect a lively atmosphere from start to finish. \n🎟 Ticket Prices:Early Bird – 70\,000 UGXAt the Gate – 100\,000 UGXVVIP – 200\,000 UGX \nYou can purchase tickets using the FlexiPay App. \n📞 Toll Free: 0800314111 \nSo\, gather your friends and prepare for a day filled with reggae beats\, tasty roasts\, and unforgettable vibes at Lugogo Hockey Grounds
URL:https://allevents.ug/event/roast-and-rhyme-reggae-ragga-nyam-nyam-edition-2/
LOCATION:Lugogo Hockey Grounds\, Kampala\, Uganda
CATEGORIES:Concert
ATTACH;FMTTYPE=image/webp:https://allevents.ug/wp-content/uploads/2026/03/IMG_4962.JPG.webp
END:VEVENT
BEGIN:VEVENT
DTSTART;TZID=Europe/Moscow:20260329T130000
DTEND;TZID=Europe/Moscow:20260329T233000
DTSTAMP:20260420T161822
CREATED:20260305T115700Z
LAST-MODIFIED:20260305T115700Z
UID:27496-1774789200-1774827000@allevents.ug
SUMMARY:Neo and Afro Soul Picnic
DESCRIPTION:Kampala’s soulful music lovers have something special to look forward to. The Neo and Afro Soul Picnic Kampala arrives on Sunday\, March 29\, 2026\, at Springs & Petals Kitende. This outdoor experience celebrates neo soul and Afro-inspired sounds in a relaxed picnic-style setting. \nFirst\, guests will enjoy a vibrant atmosphere filled with music\, food\, and great company. In addition\, some of Kampala’s most soulful singers will take the stage to deliver unforgettable performances. \nMost notably\, Julius Sese will perform live. Meanwhile\, Biya will also bring powerful vocals and captivating stage energy. Together with other talented artists\, they will create a rich musical journey filled with neo soul\, Afro soul\, and jazz-inspired rhythms. \nHowever\, the experience goes beyond music alone. Guests will also enjoy live bands\, soulful vocals\, poetry\, and spoken word performances. As a result\, the picnic will offer a perfect blend of art\, culture\, and relaxation. \nFurthermore\, the outdoor picnic setting will allow guests to unwind while they enjoy great food\, refreshing drinks\, and smooth soulful sounds. Therefore\, it will serve as the perfect Sunday escape for anyone who loves live music and creative expression. \nTickets are already available online. Early bird tickets go for UGX 70\,000 on Tutu.ug\, while tickets at the entrance will cost UGX 100\,000. Because spaces may fill quickly\, guests should secure their tickets early. \nIf you love neo soul\, Afro soul\, and intimate live music experiences\, then this event deserves a spot on your calendar. \n📅 Date: Sunday\, March 29\, 2026📍 Venue: Springs & Petals\, Kitende🎟 Tickets: UGX 70\,000 Early Bird on Tutu.ug | UGX 100\,000 at the entrance
URL:https://allevents.ug/event/neo-and-afro-soul-picnic/
LOCATION:Springs & Petals\, Kitende\, Entebbe\, Uganda
CATEGORIES:Brunch
ATTACH;FMTTYPE=image/webp:https://allevents.ug/wp-content/uploads/2026/03/WhatsApp-Image-2026-03-05-at-14.38.29.webp
END:VEVENT
END:VCALENDAR