BEGIN:VCALENDAR
VERSION:2.0
PRODID:-//All Events Kampala - ECPv6.13.0//NONSGML v1.0//EN
CALSCALE:GREGORIAN
METHOD:PUBLISH
X-WR-CALNAME:All Events Kampala
X-ORIGINAL-URL:https://allevents.ug
X-WR-CALDESC:Events for All Events Kampala
REFRESH-INTERVAL;VALUE=DURATION:PT1H
X-Robots-Tag:noindex
X-PUBLISHED-TTL:PT1H
BEGIN:VTIMEZONE
TZID:Europe/Moscow
BEGIN:STANDARD
TZOFFSETFROM:+0300
TZOFFSETTO:+0300
TZNAME:MSK
DTSTART:20260101T000000
END:STANDARD
END:VTIMEZONE
BEGIN:VEVENT
DTSTART;TZID=Europe/Moscow:20260515T090000
DTEND;TZID=Europe/Moscow:20260516T200000
DTSTAMP:20260425T171230
CREATED:20260423T142002Z
LAST-MODIFIED:20260423T142002Z
UID:28253-1778835600-1778961600@allevents.ug
SUMMARY:Own the Floor Dance Camp
DESCRIPTION:Kampala’s dance scene is about to level up. This May\, Own the Floor Dance Camp brings together top dancers\, electrifying performances\, and unmatched energy. \nFrom May 15th to 16th\, 2026\, dancers and creatives will gather at Motiv Uganda for two full days of movement\, learning\, and culture. Moreover\, the camp creates the perfect space to connect\, grow\, and showcase talent. \n💃 What to expect: \nFirst\, expect high-energy dance sessions led by some of the city’s best.Next\, enjoy live performances from standout dancers and crews.Finally\, connect with a vibrant community that lives and breathes dance. \n🔥 Featuring performers and dancers like:Treee\, Emma Kendrik\, Bobby Beats\, Fleekers UG\, Cohen\, Mayannum\, Miss Teem\, Uncle Walter\, and more. \n📅 Dates: May 15th – 16th\, 2026⏰ Time: 9:00 AM – 8:00 PM (each day)📍 Venue: Motiv Uganda\, Kampala \n🎟️ Passes:2-Day Pass: UGX 40\,0001-Day Pass: UGX 20\,000 \n📞 Reservations: 0702143871 \nDon’t miss this experience. Whether you want to learn\, perform\, or simply vibe\, Own the Floor Dance Camp gives you the perfect stage. Secure your spot today and step into the rhythm of Kampala’s dance culture.
URL:https://allevents.ug/event/own-the-floor-dance-camp/
LOCATION:Motiv\, Bugolobi\, Kampala\, Uganda
CATEGORIES:Festival
ATTACH;FMTTYPE=image/webp:https://allevents.ug/wp-content/uploads/2026/04/WhatsApp-Image-2026-04-23-at-12.54.12.webp
END:VEVENT
END:VCALENDAR