BEGIN:VCALENDAR
VERSION:2.0
PRODID:-//All Events Kampala - ECPv6.13.0//NONSGML v1.0//EN
CALSCALE:GREGORIAN
METHOD:PUBLISH
X-ORIGINAL-URL:https://allevents.ug
X-WR-CALDESC:Events for All Events Kampala
REFRESH-INTERVAL;VALUE=DURATION:PT1H
X-Robots-Tag:noindex
X-PUBLISHED-TTL:PT1H
BEGIN:VTIMEZONE
TZID:Europe/Moscow
BEGIN:STANDARD
TZOFFSETFROM:+0300
TZOFFSETTO:+0300
TZNAME:MSK
DTSTART:20250101T000000
END:STANDARD
END:VTIMEZONE
BEGIN:VEVENT
DTSTART;TZID=Europe/Moscow:20251004T130000
DTEND;TZID=Europe/Moscow:20251004T233000
DTSTAMP:20260422T100422
CREATED:20250925T105116Z
LAST-MODIFIED:20250925T105116Z
UID:25659-1759582800-1759620600@allevents.ug
SUMMARY:Old School Soirée
DESCRIPTION:Old School Soirée by Camelot Concepts returns this Saturday\, October 4\, 2025\, at The Alchemist Bar & Kitchen in Bugolobi. \nStep into a night that takes you straight to the golden era of R&B\, hip-hop\, funk\, and dancehall. Kampala’s finest DJs will be spinning the classics that defined a generation\, keeping the dance floor alive till dawn. Brace yourself for pure nostalgia\, vibrant energy\, and an unforgettable atmosphere. \n🎧 Expect:✅ Timeless hits that span generations✅ A fun\, grown-up crowd that loves to move✅ Seamless DJ sets and uplifting energy✅ Classic vibes powered by and Ssese Nation \n📅 Date: Saturday\, October 4th\, 2025📍 Venue: The Alchemist Bar & Kitchen\, Bugolobi🕛 Time: From 1 PM till late📞 Bookings: Call +256 777 194 006 to reserve your spot \nThe countdown is on\, dust off your dancing shoes\, and relive the magic.
URL:https://allevents.ug/event/old-school-soiree-5/
LOCATION:The Alchemist Bar & Kitchen\, Plot 31A\, Bandali Rise\, Kampala\, Uganda
CATEGORIES:Brunch
ATTACH;FMTTYPE=image/webp:https://allevents.ug/wp-content/uploads/2025/09/WhatsApp-Image-2025-09-25-at-13.38.42.webp
END:VEVENT
END:VCALENDAR