BEGIN:VCALENDAR
VERSION:2.0
PRODID:-//All Events Kampala - ECPv6.13.0//NONSGML v1.0//EN
CALSCALE:GREGORIAN
METHOD:PUBLISH
X-WR-CALNAME:All Events Kampala
X-ORIGINAL-URL:https://allevents.ug
X-WR-CALDESC:Events for All Events Kampala
REFRESH-INTERVAL;VALUE=DURATION:PT1H
X-Robots-Tag:noindex
X-PUBLISHED-TTL:PT1H
BEGIN:VTIMEZONE
TZID:Europe/Moscow
BEGIN:STANDARD
TZOFFSETFROM:+0300
TZOFFSETTO:+0300
TZNAME:MSK
DTSTART:20250101T000000
END:STANDARD
END:VTIMEZONE
BEGIN:VEVENT
DTSTART;TZID=Europe/Moscow:20250720T170000
DTEND;TZID=Europe/Moscow:20250720T233000
DTSTAMP:20260420T095111
CREATED:20250711T075350Z
LAST-MODIFIED:20250711T075350Z
UID:24403-1753030800-1753054200@allevents.ug
SUMMARY:Cartel Bizness EP Listening Party
DESCRIPTION:Get ready for an unforgettable evening as the Cartel Bizness EP Listening Party takes over Silo 15\, Bugolobi on Sunday\, July 20th\, 2025. \nThis isn’t just another event. It’s a creative revolution. Curated by Axon\, one of East Africa’s most dynamic producers\, and Troy Elimu of Denim Cartel\, this listening party is a bold celebration of new wave sound and sustainable fashion. \nWhat to Expect: \n\n\nLive DJ sets by DJ Vanns. \n\n\nElectrifying performances from East Africa’s finest: A Pass\, Elijah Kitaka\, Kamanzi\, Big Tril\, Tai Dai\, Mike Kayihura\, and more \n\n\nOfficial hosts: Hype Cartel and Icy Sonia \n\n\nExclusive limited-edition EP merch \n\n\nA visual fusion of music and fashion\, unlike anything you’ve seen before \n\n\nThe Cartel Bizness EP is more than sound. It’s a movement. Each track tells a story through rhythm and look\, bridging cultures\, genres\, and generations. \n📍 Venue: Silo 15\, Bugolobi📅 Date: Sunday\, 20th July 2025⏰ Time: From 5 PM till late
URL:https://allevents.ug/event/cartel-bizness-ep-listening-party/
LOCATION:Silo 15\, Bandali Rise\, Bugolobi\, Kampala\, Uganda
CATEGORIES:Festival
ATTACH;FMTTYPE=image/webp:https://allevents.ug/wp-content/uploads/2025/07/CARTEL-BIZNESS-1-3.webp
END:VEVENT
END:VCALENDAR