BEGIN:VCALENDAR
VERSION:2.0
PRODID:-//All Events Kampala - ECPv6.13.0//NONSGML v1.0//EN
CALSCALE:GREGORIAN
METHOD:PUBLISH
X-WR-CALNAME:All Events Kampala
X-ORIGINAL-URL:https://allevents.ug
X-WR-CALDESC:Events for All Events Kampala
REFRESH-INTERVAL;VALUE=DURATION:PT1H
X-Robots-Tag:noindex
X-PUBLISHED-TTL:PT1H
BEGIN:VTIMEZONE
TZID:Europe/Moscow
BEGIN:STANDARD
TZOFFSETFROM:+0300
TZOFFSETTO:+0300
TZNAME:MSK
DTSTART:20250101T000000
END:STANDARD
END:VTIMEZONE
BEGIN:VEVENT
DTSTART;TZID=Europe/Moscow:20250621T180000
DTEND;TZID=Europe/Moscow:20250621T233000
DTSTAMP:20260420T112318
CREATED:20250604T144326Z
LAST-MODIFIED:20250604T144326Z
UID:23774-1750528800-1750548600@allevents.ug
SUMMARY:World Music Day
DESCRIPTION:Join the ultimate music celebration on Saturday\, June 21st\, 2025\, as UrbanLyfe Productions brings World Music Day to Kampala Serena Hotel for the first time. This unforgettable event will unite cultures\, rhythms\, and some of Africa’s most electrifying artists for one magical night. \n🎤 Here’s what to expect: \n✅ A headline performance from Amapiano Star Chley\, live from South Africa. She’s best known for her global smash hit “Komasava” with Diamond Platnumz.✅ Ugandan artists like Winnie Nwagi\, Elijah Kitaka\, Karole Kasita\, DJ Shady\, Zani Lady C and Shanks Vivie’D will take the stage.✅ Hosted by the ever-vibrant Zahara Totto.✅ Surprise acts to keep the energy high all night long. \n🎟 Tickets: \n\n\nRegular: UGX 150\,000 \n\n\nGold Table (8 pax): UGX 3\,000\,000 \n\n\nPlatinum Table (8 pax): UGX 6\,000\,000 \n\n\nAvailable now on MTN MoMo. \n\n\n📍 Venue: Kampala Serena Hotel📅 Date: Saturday\, June 21st\, 2025⏰ Time: From 6 PM till late
URL:https://allevents.ug/event/world-music-day/
LOCATION:Serena hotel\, Kampala\, Uganda
CATEGORIES:Concert
ATTACH;FMTTYPE=image/webp:https://allevents.ug/wp-content/uploads/2025/06/bd71b7fd-2ac2-4de3-90ec-83730f4c17a7.webp
END:VEVENT
BEGIN:VEVENT
DTSTART;TZID=Europe/Moscow:20250627T160000
DTEND;TZID=Europe/Moscow:20250627T233000
DTSTAMP:20260420T112319
CREATED:20250610T073731Z
LAST-MODIFIED:20250610T073731Z
UID:23910-1751040000-1751067000@allevents.ug
SUMMARY:One Night Only With Elijah Kitaka
DESCRIPTION:Next Ticket proudly presents an unforgettable night of music\, connection\, and raw talent—Elijah Kitaka Live in Kampala for One Night Only at UMA Show Grounds\, Lugogo. \nElijah Kitaka is no stranger to the stage. His soulful blend of Afro-fusion\, contemporary grooves\, and emotionally charged lyrics has captivated audiences across Uganda. Now\, he returns for one extraordinary night\, joined by the Double Black Band\, Kampala’s renowned live performance ensemble. \n📅 Date: Friday\, June 27th\, 2025⏰ Time:  4:00 PM 📍 Venue: UMA Show Grounds\, Lugogo🎟️ Tickets: UGX 50\,000 (early bird)\, UGX 70\,000 (at the gate)✨ VIP Access: Priority seating\, private bar\, exclusive meet & greet
URL:https://allevents.ug/event/one-night-only-with-elijah-kitaka/
LOCATION:UMA Show Grounds\, Lugogo\, Kampala\, Uganda
CATEGORIES:Show
ATTACH;FMTTYPE=image/webp:https://allevents.ug/wp-content/uploads/2025/06/3b67b555-4357-4990-bfed-a9067c9b95ae.webp
END:VEVENT
END:VCALENDAR