BEGIN:VCALENDAR
VERSION:2.0
PRODID:-//All Events Kampala - ECPv6.13.0//NONSGML v1.0//EN
CALSCALE:GREGORIAN
METHOD:PUBLISH
X-WR-CALNAME:All Events Kampala
X-ORIGINAL-URL:https://allevents.ug
X-WR-CALDESC:Events for All Events Kampala
REFRESH-INTERVAL;VALUE=DURATION:PT1H
X-Robots-Tag:noindex
X-PUBLISHED-TTL:PT1H
BEGIN:VTIMEZONE
TZID:Europe/Moscow
BEGIN:STANDARD
TZOFFSETFROM:+0300
TZOFFSETTO:+0300
TZNAME:MSK
DTSTART:20260101T000000
END:STANDARD
END:VTIMEZONE
BEGIN:VEVENT
DTSTART;TZID=Europe/Moscow:20260425T090000
DTEND;TZID=Europe/Moscow:20260425T130000
DTSTAMP:20260419T184620
CREATED:20260414T200114Z
LAST-MODIFIED:20260414T200114Z
UID:28160-1777107600-1777122000@allevents.ug
SUMMARY:Unlocking Digital Potential
DESCRIPTION:Are you ready to grow your digital skills? If so\, don’t miss Unlocking Digital Potential\, happening on April 25th\, 2026 at MCI Hub in Kampala. \nThis engaging session focuses on one clear goal. It equips young people with practical marketing and content creation skills. As a result\, you will gain tools that help you stand out in today’s digital world. \nMoreover\, Zawedde Patricia will lead the session. She brings valuable insight and real-world experience to help you learn faster and smarter. \nIn addition\, this event comes in partnership with Media Challenge Initiative. Therefore\, you can expect high-quality\, industry-relevant knowledge throughout the session. \nWhat you will gain:\n✅ Practical marketing strategies you can apply immediately✅ Content creation skills for today’s digital platforms✅ Confidence to build your personal or professional brand \nHowever\, spaces are limited. Therefore\, you need to act quickly to secure your spot. \n📅 Date: April 25th\, 2026⏰ Time: 9:00 AM – 1:00 PM📍 Venue: MCI Hub\, Kampala \n👉 Register now here. \nDon’t miss this opportunity. Instead\, take the next step and unlock your digital potential today!
URL:https://allevents.ug/event/unlocking-digital-potential/
LOCATION:MCI Hub\, Kabalagala\, Kampala\, Uganda
CATEGORIES:Conference
ATTACH;FMTTYPE=image/webp:https://allevents.ug/wp-content/uploads/2026/04/IMG_5959.JPG.webp
END:VEVENT
BEGIN:VEVENT
DTSTART;TZID=Europe/Moscow:20260425T120000
DTEND;TZID=Europe/Moscow:20260425T233000
DTSTAMP:20260419T184620
CREATED:20260414T141657Z
LAST-MODIFIED:20260414T141657Z
UID:28156-1777118400-1777159800@allevents.ug
SUMMARY:East African Meat Carnival
DESCRIPTION:Kampala gets ready for a bold new experience. The East African Meat Carnival lands at Tales Lounge Bukoto on 25th April from 12 PM till late. This event brings together great food\, premium drinks\, and nonstop entertainment in one vibrant setting. \nFirst\, expect an unbeatable vibe. The event blends rich East African flavors with a high-energy social atmosphere. You will enjoy top-tier meat selections and refreshing drinks inspired by Jameson. \nNext\, the food experience takes center stage. Food Mechanic curates the food policy and delivers bold\, flavorful meat dishes that match the energy of the carnival. Every bite adds to the experience. \nMoreover\, the music keeps the energy high all day. The lineup features: \n\nKonk Mukiga\nSlaughter Elly\nJefas\nAndrey 256\n\nIn addition\, MC Wright leads the hype and keeps the crowd energized throughout the event. MC Wright \nFinally\, you should not miss the drinks experience. Signature cocktails inspired by Jameson set the tone for a smooth and exciting celebration. \nReservations :+256 700 564 679
URL:https://allevents.ug/event/east-african-meat-carnival/
LOCATION:Tales Bar and Lounge\, Bukoto\, Uganda
CATEGORIES:Brunch
ATTACH;FMTTYPE=image/webp:https://allevents.ug/wp-content/uploads/2026/04/IMG_8392.JPG.webp
END:VEVENT
BEGIN:VEVENT
DTSTART;TZID=Europe/Moscow:20260425T140000
DTEND;TZID=Europe/Moscow:20260425T233000
DTSTAMP:20260419T184620
CREATED:20260414T140035Z
LAST-MODIFIED:20260414T140035Z
UID:28134-1777125600-1777159800@allevents.ug
SUMMARY:Open Studio Session
DESCRIPTION:Kampala’s creative scene comes alive this April. On April 25th\, 2026\, Open Studio Kampala takes over The Emin Pasha Hotel in Nakasero with a full day of art\, culture\, and connection. \nTo begin with\, the event showcases a dynamic art exhibition featuring diverse and inspiring works. In addition\, guests can take part in interactive workshops and hands-on creative sessions. \nMeanwhile\, the experience goes beyond visual art. You can enjoy pottery sessions\, live painting\, and even tattoo experiences throughout the day. As you explore\, spoken word poetry and live performances will keep the energy flowing. \nFurthermore\, the vendor marketplace offers unique pieces\, crafts\, and creative products from local talent. So whether you want to network\, learn\, or simply enjoy the vibe\, Open Studio Kampala creates the perfect space. \n📅 Date: April 25th\, 2026⏰ Time: From 12 PM till late📍 Venue: The Emin Pasha Hotel\, Nakasero\, Kampala🎟 Entrance: UGX 20\,000📞 Inquiries: +256 706 437334🌐 Tickets: Available at Kari Tickets \nOrganizers include Droop Canvas\, Camelot Concepts\, and Ssese Nation. \nDon’t miss this opportunity to connect with Kampala’s creative community. Secure your spot and experience art in motion!
URL:https://allevents.ug/event/open-studio-session-3/
LOCATION:The Emin Pasha Hotel\, Nakasero\, Kampala
CATEGORIES:Brunch,Show
ATTACH;FMTTYPE=image/webp:https://allevents.ug/wp-content/uploads/2026/04/IMG_8391.JPG.webp
END:VEVENT
BEGIN:VEVENT
DTSTART;TZID=Europe/Moscow:20260425T140000
DTEND;TZID=Europe/Moscow:20260426T030000
DTSTAMP:20260419T184620
CREATED:20260203T073958Z
LAST-MODIFIED:20260203T073958Z
UID:27132-1777125600-1777172400@allevents.ug
SUMMARY:Old School & Vibe Brunch
DESCRIPTION:The Old School & Vibe Brunch is coming back to Kampala\, and the excitement is real. After the huge success of its first two Uganda editions in September and December 2025\, the experience returns for Edition Three on Saturday April 25th at Protea Hotel Kampala Skyz Naguru. Since the first event left everyone wanting more\, this follow-up edition promises even bigger energy and deeper nostalgia. \nBetter yet\, the event runs from 2 PM to 3 AM\, giving you a full day and night of music\, culture\, and great company. You’ll feel the nostalgia from the first beat\, and the fun will carry you long into the night. \n🎟 Ticket Prices: \n\n\nEarly Bird: 80K \n\n\nAdvance: 100K \n\n\nGate: 150K \n\n\nGet your ticket here: \nReserve your ticket early and prepare for a day filled with nostalgia\, great music\, brunch\, and pure vibes.
URL:https://allevents.ug/event/old-school-vibe-brunch-2/
LOCATION:Protea Hotel Kampala Skyz\, Naguru\, Kampala\, Uganda
CATEGORIES:Brunch
ATTACH;FMTTYPE=image/webp:https://allevents.ug/wp-content/uploads/2026/02/IMG_6397.JPG.webp
END:VEVENT
BEGIN:VEVENT
DTSTART;TZID=Europe/Moscow:20260426T120000
DTEND;TZID=Europe/Moscow:20260426T233000
DTSTAMP:20260419T184620
CREATED:20260412T111442Z
LAST-MODIFIED:20260412T111442Z
UID:28039-1777204800-1777246200@allevents.ug
SUMMARY:Bottomless Brunch
DESCRIPTION:Bottomless Brunch returns this 26th April at Stonehaven\, bringing together great food\, free-flowing drinks\, and a laid-back social vibe in one of Kampala’s most scenic hangout spots. It’s the kind of day plan that blends relaxation with a lively crowd\, perfect for catching up\, celebrating\, or just easing into the weekend energy. \nExpect a curated brunch menu paired with bottomless servings of selected drinks\, all set against a stylish\, outdoor-inspired atmosphere. With music setting the tone throughout the day\, the experience balances chill moments with bursts of energy as the vibe builds. \nWhether you’re coming with your squad or linking up with friends\, Stonehaven sets the perfect backdrop for a slow\, indulgent\, and social Saturday afternoon. \n📍 Venue: Stonehaven📅 Date: 26th April📞 Reservations: 250\,000
URL:https://allevents.ug/event/bottomless-brunch-stonehaven/
LOCATION:Stonehaven\, Kololo\, Kampala\, Uganda
CATEGORIES:Brunch
ATTACH;FMTTYPE=image/webp:https://allevents.ug/wp-content/uploads/2026/04/IMG_7973.webp
END:VEVENT
BEGIN:VEVENT
DTSTART;TZID=Europe/Moscow:20260426T130000
DTEND;TZID=Europe/Moscow:20260426T233000
DTSTAMP:20260419T184620
CREATED:20260412T104317Z
LAST-MODIFIED:20260412T104317Z
UID:28021-1777208400-1777246200@allevents.ug
SUMMARY:The Big Meeting
DESCRIPTION:The Big Meeting is back this Sunday at Thrones Lounge\, bringing together Kampala’s party crowd for one of the city’s most anticipated social experiences. Known as a monthly ritual\, it blends music\, culture\, and premium vibes into a relaxed but elevated hangout where people come to connect and unwind. \nExpect a mix of good music\, curated DJ sets\, and interactive moments that make every edition feel different. From Amapiano and Afrobeat to soulful throwbacks\, the soundtrack evolves through the day\, while guests enjoy cocktails and even hands-on experiences like DIY mixes that add a playful twist to the vibe. \nMore than just a party\, The Big Meeting is designed as a social escape — a space to link up\, celebrate wins\, and create moments with your people. Whether you’re pulling up for the music\, the drinks\, or the overall energy\, it’s one of those events that always delivers something fresh. \n📍 Venue: Thrones Lounge📅 Date: 26th April📞 Reservations: 0763895491
URL:https://allevents.ug/event/the-big-meeting-thrones-kampala/
LOCATION:Thrones Lounge\, Thrones Lounge\, Kampala\, Uganda
CATEGORIES:Brunch
ATTACH;FMTTYPE=image/webp:https://allevents.ug/wp-content/uploads/2026/04/IMG_7974.webp
END:VEVENT
BEGIN:VEVENT
DTSTART;TZID=Europe/Moscow:20260430T190000
DTEND;TZID=Europe/Moscow:20260430T233000
DTSTAMP:20260419T184620
CREATED:20260412T110047Z
LAST-MODIFIED:20260412T110047Z
UID:28033-1777575600-1777591800@allevents.ug
SUMMARY:Strictly Nyigos
DESCRIPTION:Strictly Nyiggos returns on 30th April\, bringing back one of Kampala’s most intimate and talked-about party experiences. Built around connection and closeness\, the event is known for its slow\, steady vibe where the dancefloor turns into a space for real moments\, good energy\, and undeniable chemistry. \nThe music leans into smooth Hip Hop\, R&B\, and slow jams\, setting the tone for a night of close dancing and effortless rhythm. It’s less about hype and more about feeling the moment — where every track pulls people in and keeps the vibe locked from start to finish. \nWith the venue still under wraps\, the anticipation only builds. Wherever it lands\, expect a packed-out space\, dim lights\, and a night that’s all about moving slow and staying in the moment. \n📍 Venue: TBA📅 Date: 30th April📞 Reservations: TBA
URL:https://allevents.ug/event/strictly-nyiggos-kampala/
CATEGORIES:Show
ATTACH;FMTTYPE=image/webp:https://allevents.ug/wp-content/uploads/2026/04/IMG_7975.webp
END:VEVENT
END:VCALENDAR