BEGIN:VCALENDAR
VERSION:2.0
PRODID:-//All Events Kampala - ECPv6.13.0//NONSGML v1.0//EN
CALSCALE:GREGORIAN
METHOD:PUBLISH
X-WR-CALNAME:All Events Kampala
X-ORIGINAL-URL:https://allevents.ug
X-WR-CALDESC:Events for All Events Kampala
REFRESH-INTERVAL;VALUE=DURATION:PT1H
X-Robots-Tag:noindex
X-PUBLISHED-TTL:PT1H
BEGIN:VTIMEZONE
TZID:Europe/Moscow
BEGIN:STANDARD
TZOFFSETFROM:+0300
TZOFFSETTO:+0300
TZNAME:MSK
DTSTART:20260101T000000
END:STANDARD
END:VTIMEZONE
BEGIN:VEVENT
DTSTART;TZID=Europe/Moscow:20260328T090000
DTEND;TZID=Europe/Moscow:20260328T233000
DTSTAMP:20260422T010202
CREATED:20260319T184403Z
LAST-MODIFIED:20260319T184403Z
UID:27709-1774688400-1774740600@allevents.ug
SUMMARY:Dominate 2026
DESCRIPTION:Step into your power at Dominate 2026 Kampala\, a transformative women’s wellness and inspiration event. This impactful gathering takes place on March 28th\, 2026 at Lugogo Cricket Oval. \nThis year\, the theme “The Tide is Turning” sets the tone for growth\, confidence\, and bold action. As a result\, the event creates the perfect space for women who want to rise\, lead\, and thrive in every area of life. \nThroughout the day\, you will gain practical wisdom\, fresh perspective\, and real motivation. In addition\, you will enjoy engaging sessions filled with energy\, connection\, and fun. \n✨ Here’s what to expect: \n\n\nPowerful insights from inspiring women like Manuela Mulondo\, Hilda Bahati\, and Sandra Bangana \n\n\nReal-life success nuggets that you can apply immediately \n\n\nA vibrant atmosphere that blends wellness\, learning\, and enjoyment \n\n\nMoreover\, the event encourages meaningful conversations and personal breakthroughs. Therefore\, you will leave feeling empowered and ready to dominate your goals in 2026. \n📅 Date: March 28th\, 2026⏰ Time: Starts at 9:00 AM📍 Venue: Lugogo Cricket Oval\, Kampala \n🎟 Tickets: \n\n\nUGX 50\,000 – General \n\n\nUGX 200\,000 – Preferential Seating \n\n\nDon’t wait. Secure your spot today and take charge of your future. Because when the tide turns\, you should already be moving forward.
URL:https://allevents.ug/event/dominate-2026/
LOCATION:LUGOGO CRICKET OVAL\, LUGOGO\, KAMPALA\, KAMPALA\, 256\, Uganda
CATEGORIES:Conference
ATTACH;FMTTYPE=image/webp:https://allevents.ug/wp-content/uploads/2026/03/IMG_6282.JPG.webp
END:VEVENT
BEGIN:VEVENT
DTSTART;TZID=Europe/Moscow:20260307T100000
DTEND;TZID=Europe/Moscow:20260307T183000
DTSTAMP:20260422T010202
CREATED:20260302T144854Z
LAST-MODIFIED:20260302T152042Z
UID:27410-1772877600-1772908200@allevents.ug
SUMMARY:African Sisters Network International Women’s Day Conference Nairobi
DESCRIPTION:The African Sisters Network invites you to a powerful gathering this International Women’s Day. On March 7th\, the network will host its annual conference at Swiss Lenana Mount Hotel in Nairobi from 10 AM to 6 PM. \nThis year’s theme\, Bold Women Redefined\, calls women to step forward with confidence and purpose. Therefore\, guests should arrive in a bold outfit that reflects strength and individuality. \nIn addition\, the conference will feature inspiring voices who continue to shape conversations across Africa. Attendees will hear from influential speakers such as Victoria Nyanzi\, Nyawira\, Kambua\, Grace\, Lulu\, and Mathu\, among others. \nMoreover\, the event will create space for networking\, shared learning\, and meaningful connections. Whether you seek inspiration or community\, this conference will deliver both. \n🎟 Ticket Prices:• Single – KES 4\,200• Double – KES 8\,500 \n📞 Reservations: +254 796 114922 \nSo secure your seat today and join bold women who continue to redefine leadership\, identity\, and impact across the continent.
URL:https://allevents.ug/event/african-sisters-network-international-womens-day-conference-nairobi/
LOCATION:Lenana Hotel\, Nairobi
CATEGORIES:Conference
ATTACH;FMTTYPE=image/webp:https://allevents.ug/wp-content/uploads/2026/03/IMG_4959.JPG.webp
END:VEVENT
END:VCALENDAR