BEGIN:VCALENDAR
VERSION:2.0
PRODID:-//All Events Kampala - ECPv6.13.0//NONSGML v1.0//EN
CALSCALE:GREGORIAN
METHOD:PUBLISH
X-ORIGINAL-URL:https://allevents.ug
X-WR-CALDESC:Events for All Events Kampala
REFRESH-INTERVAL;VALUE=DURATION:PT1H
X-Robots-Tag:noindex
X-PUBLISHED-TTL:PT1H
BEGIN:VTIMEZONE
TZID:Europe/Moscow
BEGIN:STANDARD
TZOFFSETFROM:+0300
TZOFFSETTO:+0300
TZNAME:MSK
DTSTART:20260101T000000
END:STANDARD
END:VTIMEZONE
BEGIN:VEVENT
DTSTART;TZID=Europe/Moscow:20260328T090000
DTEND;TZID=Europe/Moscow:20260328T233000
DTSTAMP:20260419T221444
CREATED:20260319T184403Z
LAST-MODIFIED:20260319T184403Z
UID:27709-1774688400-1774740600@allevents.ug
SUMMARY:Dominate 2026
DESCRIPTION:Step into your power at Dominate 2026 Kampala\, a transformative women’s wellness and inspiration event. This impactful gathering takes place on March 28th\, 2026 at Lugogo Cricket Oval. \nThis year\, the theme “The Tide is Turning” sets the tone for growth\, confidence\, and bold action. As a result\, the event creates the perfect space for women who want to rise\, lead\, and thrive in every area of life. \nThroughout the day\, you will gain practical wisdom\, fresh perspective\, and real motivation. In addition\, you will enjoy engaging sessions filled with energy\, connection\, and fun. \n✨ Here’s what to expect: \n\n\nPowerful insights from inspiring women like Manuela Mulondo\, Hilda Bahati\, and Sandra Bangana \n\n\nReal-life success nuggets that you can apply immediately \n\n\nA vibrant atmosphere that blends wellness\, learning\, and enjoyment \n\n\nMoreover\, the event encourages meaningful conversations and personal breakthroughs. Therefore\, you will leave feeling empowered and ready to dominate your goals in 2026. \n📅 Date: March 28th\, 2026⏰ Time: Starts at 9:00 AM📍 Venue: Lugogo Cricket Oval\, Kampala \n🎟 Tickets: \n\n\nUGX 50\,000 – General \n\n\nUGX 200\,000 – Preferential Seating \n\n\nDon’t wait. Secure your spot today and take charge of your future. Because when the tide turns\, you should already be moving forward.
URL:https://allevents.ug/event/dominate-2026/
LOCATION:LUGOGO CRICKET OVAL\, LUGOGO\, KAMPALA\, KAMPALA\, 256\, Uganda
CATEGORIES:Conference
ATTACH;FMTTYPE=image/webp:https://allevents.ug/wp-content/uploads/2026/03/IMG_6282.JPG.webp
END:VEVENT
BEGIN:VEVENT
DTSTART;TZID=Europe/Moscow:20260328T100000
DTEND;TZID=Europe/Moscow:20260328T233000
DTSTAMP:20260419T221444
CREATED:20260319T185337Z
LAST-MODIFIED:20260319T185337Z
UID:27716-1774692000-1774740600@allevents.ug
SUMMARY:Quonnect Market Day
DESCRIPTION:Kampala\, get ready for a vibrant day out. On March 28th\, 2026\, Quonnect Market Day brings a fun and energetic experience to Motiv Kampala. Best of all\, you enjoy free entrance from 10 AM. \nWhether you love shopping or simply want to unwind\, this event has something for you. In addition\, you can explore unique vendors\, discover creative products\, and support local brands. \n🎉 Here’s what to expect: \n✅ A lively shopping experience with diverse vendors✅ Great music to keep the energy high throughout the day✅ Fun karaoke sessions to sing your heart out✅ A photo booth to capture unforgettable moments✅ Sip and paint for a relaxed\, creative vibe \nMoreover\, Quonnect Market Day creates the perfect space to connect\, shop\, and enjoy Kampala’s social scene. So\, gather your friends and plan your day early. \n📅 Date: March 28th\, 2026⏰ Time: From 10 AM📍 Venue: Motiv Kampala🎟 Entrance: Free \nDon’t miss out. Come shop\, have fun\, and repeat at Quonnect Market Day Kampala!
URL:https://allevents.ug/event/quonnect-market-day-2/
LOCATION:Motiv\, Bugolobi\, Kampala\, Uganda
CATEGORIES:Show
ATTACH;FMTTYPE=image/webp:https://allevents.ug/wp-content/uploads/2026/03/IMG_6283.JPG.webp
END:VEVENT
BEGIN:VEVENT
DTSTART;TZID=Europe/Moscow:20260328T123000
DTEND;TZID=Europe/Moscow:20260328T233000
DTSTAMP:20260419T221444
CREATED:20260310T092038Z
LAST-MODIFIED:20260310T092038Z
UID:27579-1774701000-1774740600@allevents.ug
SUMMARY:Afro Urban
DESCRIPTION:Kampala’s nightlife keeps getting better\, and Her Afro Urban brings a fresh energy to the city. On March 28th\, party lovers will gather at MOTIV Kampala for a vibrant night of Afro urban sounds\, good food\, and unforgettable vibes. \nFirst\, Shonale brings together some of the city’s most exciting party lovers for a unique nightlife experience. Then\, the Ssese Nation DJs will take control of the decks and deliver a powerful music policy filled with Afrobeat\, Amapiano\, hip hop\, and urban hits. \nAs the night unfolds\, expect an electric atmosphere\, great music\, and a lively crowd. In addition\, guests can enjoy delicious food and refreshing drinks while they dance and connect with friends. \nSo if you love good music and vibrant energy\, Her Afro Urban Kampala is the place to be. Therefore\, mark your calendar and get ready for a night that celebrates Afro urban culture in style. \n📅 Date: March 28th📍 Venue: MOTIV Kampala🎧 Music Policy: Ssese Nation DJs🎉 Hosted by: Shonale \nBring your friends\, show up in style\, and enjoy one of Kampala’s most exciting Afro urban party experiences.
URL:https://allevents.ug/event/afro-urban/
LOCATION:Motiv\, Bugolobi\, Kampala\, Uganda
CATEGORIES:Comedy
ATTACH;FMTTYPE=image/webp:https://allevents.ug/wp-content/uploads/2026/03/IMG_5828.JPG.webp
END:VEVENT
BEGIN:VEVENT
DTSTART;TZID=Europe/Moscow:20260328T123000
DTEND;TZID=Europe/Moscow:20260328T233000
DTSTAMP:20260419T221444
CREATED:20260310T095332Z
LAST-MODIFIED:20260310T095332Z
UID:27605-1774701000-1774740600@allevents.ug
SUMMARY:The Reminisce Kadanke Daytime Disco
DESCRIPTION:Kampala’s party lovers have something exciting to look forward to. Reminisce Kadanke returns with a vibrant Daytime Disco Edition on March 28 at Guvnor Kampala. \nThis edition celebrates timeless music and nostalgic party vibes. As a result\, guests can dance\, socialize\, and relive unforgettable moments in a lively daytime atmosphere. \nMoreover\, the Daytime Disco concept brings a refreshing twist to the nightlife scene. Instead of waiting for late-night hours\, guests can start the celebration earlier while enjoying great music and energetic vibes. \nExpect an exciting lineup of classic hits and throwback anthems that defined unforgettable eras of music. In addition\, the event promises an energetic crowd\, great ambiance\, and the signature Reminisce Kadanke experience that Kampala partygoers love. \nSo gather your friends and prepare for an afternoon filled with music\, dancing\, and pure nostalgia. Without a doubt\, Reminisce Kadanke Daytime Disco will deliver a memorable party experience in the heart of Kampala. \nEvent Details \n📅 Date: March 28\, 2026⏰ Time: Daytime Disco Experience📍 Venue: Guvnor Kampala \nMark your calendar and get ready to dance the day away at one of Kampala’s most exciting throwback events.
URL:https://allevents.ug/event/the-reminisce-kadanke-daytime-disco/
LOCATION:Guvnor\, Kampala\, Uganda
CATEGORIES:Brunch
ATTACH;FMTTYPE=image/webp:https://allevents.ug/wp-content/uploads/2026/03/IMG_5830.JPG.webp
END:VEVENT
BEGIN:VEVENT
DTSTART;TZID=Europe/Moscow:20260328T160000
DTEND;TZID=Europe/Moscow:20260328T233000
DTSTAMP:20260419T221444
CREATED:20260319T190602Z
LAST-MODIFIED:20260319T190602Z
UID:27722-1774713600-1774740600@allevents.ug
SUMMARY:Bridges and Beats
DESCRIPTION:Kampala’s party scene is about to get even better. On March 28th\, 2026\, Bridges and Beats brings music\, food\, and high-energy vibes to Kingdom Kampala. From the moment you arrive\, you will feel the excitement build. \nStarting at 4 PM till late\, this event delivers the perfect mix of entertainment and nightlife. Whether you love live performances or DJ sets\, you will find something to enjoy. \n🎶 What to expect: \nFirst\, get ready for electrifying performances from some of Kampala’s top talents. Elijah Kitaka headlines the show with his signature sound and stage presence. In addition\, the talented Tracy Melon will bring smooth vocals and unforgettable energy. \nMoreover\, Sheila Salta will keep the crowd engaged throughout the event. At the same time\, top DJs including DJ Rocky and DJ LAVET will deliver nonstop mixes to keep you on your feet. \nAs the night unfolds\, enjoy great food\, refreshing drinks\, and an atmosphere full of good vibes. \n🎟️ Ticket Prices: \nEarly bird tickets offer the best value. General tickets go for 25K\, while VIP early bird tickets cost 50K. However\, if you buy at the gate\, prices increase to 30K for general entry and 60K for VIP. Therefore\, it’s best to secure your ticket early. \nIf you want music\, energy\, and a vibrant crowd\, this is the place to be. So gather your friends and get ready for an unforgettable experience at Bridges and Beats Kampala.
URL:https://allevents.ug/event/bridges-and-beats/
LOCATION:Kingdom Kampala\, Kampala\, Uganda
CATEGORIES:Concert
ATTACH;FMTTYPE=image/webp:https://allevents.ug/wp-content/uploads/2026/03/IMG_6286.JPG.webp
END:VEVENT
END:VCALENDAR