BEGIN:VCALENDAR
VERSION:2.0
PRODID:-//All Events Kampala - ECPv6.13.0//NONSGML v1.0//EN
CALSCALE:GREGORIAN
METHOD:PUBLISH
X-ORIGINAL-URL:https://allevents.ug
X-WR-CALDESC:Events for All Events Kampala
REFRESH-INTERVAL;VALUE=DURATION:PT1H
X-Robots-Tag:noindex
X-PUBLISHED-TTL:PT1H
BEGIN:VTIMEZONE
TZID:Europe/Moscow
BEGIN:STANDARD
TZOFFSETFROM:+0300
TZOFFSETTO:+0300
TZNAME:MSK
DTSTART:20260101T000000
END:STANDARD
END:VTIMEZONE
BEGIN:VEVENT
DTSTART;TZID=Europe/Moscow:20260314T120000
DTEND;TZID=Europe/Moscow:20260314T190000
DTSTAMP:20260419T235043
CREATED:20260305T070021Z
LAST-MODIFIED:20260305T070021Z
UID:27487-1773489600-1773514800@allevents.ug
SUMMARY:Girls Just Wanna Have Fun
DESCRIPTION:The most exciting ladies-only event in Kampala is back! 🎉 \nGirls Just Wanna Have Fun returns this March with a celebration of Women of RnB\, Soul and Pop music on Saturday\, March 14th\, at The Alchemist Bar & Kitchen\, Bugolobi. Curated by Camelot Concepts\, this experience celebrates sisterhood\, style\, and pure fun. \nFrom 12 PM to 7 PM\, expect laughter\, great vibes\, and endless entertainment. Enjoy delicious meals from The Alchemist’s menu\, sip your favourite drinks\, and dance the afternoon away. \nMusic takes centre stage with Kampala’s finest female DJs\, DJ Scata\, and Sal Deejay setting the perfect mood all day long. \nThis is more than an event. It’s a safe space for women to connect\, unwind\, and celebrate themselves. \n📅 Date: Saturday\, March 14th\, 2025⏰ Time: 12 PM – 7 PM📍 Venue: The Alchemist Bar & Kitchen\, Bugolobi📞 Reservations: 0777 194006🎧 Curated by: Camelot Concepts \nGather your girls\, book your spot\, and step into the Corporate Baddie energy. Because on this day\, girls wanna have fun unapologetically!
URL:https://allevents.ug/event/girls-just-wanna-have-fun-2/
LOCATION:The Alchemist Bar & Kitchen\, Plot 31A\, Bandali Rise\, Kampala\, Uganda
CATEGORIES:Brunch
ATTACH;FMTTYPE=image/webp:https://allevents.ug/wp-content/uploads/2026/03/IMG_5086.webp
END:VEVENT
BEGIN:VEVENT
DTSTART;TZID=Europe/Moscow:20260314T120000
DTEND;TZID=Europe/Moscow:20260314T233000
DTSTAMP:20260419T235043
CREATED:20260305T065316Z
LAST-MODIFIED:20260305T065316Z
UID:27484-1773489600-1773531000@allevents.ug
SUMMARY:4th Floor The Ultimate Old Skool Party
DESCRIPTION:Kampala’s throwback lovers have a reason to celebrate. On March 14\, 2026\, the 4th Floor Old Skool Party takes over Tales Bar and Lounge Bukoto. This exciting event brings together classic music\, vibrant energy\, and unforgettable entertainment. \nFirst\, expect a lively atmosphere filled with Kampala’s best party vibes. Then\, get ready for nonstop throwback hits that will keep you dancing all day. \nIn addition\, some of Kampala’s top entertainers will take the stage. DJ Deno\, Pitam\, and other talented DJs will deliver the ultimate old-school soundtrack. As the music flows\, guests can also enjoy great food\, refreshing drinks\, and a stylish rooftop atmosphere. \nMost importantly\, the party starts early and runs late. So you have plenty of time to relax\, connect with friends\, and enjoy the music. \nIf you love classic hits and energetic crowds\, this event is the place to be. \n📅 Date: March 14\, 2026⏰ Time: From 12 PM till late📍 Venue: Tales Bar & Lounge\, Bukoto\, Kampala \nMark your calendar and prepare for a nostalgic celebration at the 4th Floor Old Skool Party.
URL:https://allevents.ug/event/4th-floor-the-ultimate-old-skool-party/
LOCATION:Tales Bar and Lounge\, Bukoto\, Uganda
CATEGORIES:Brunch
ATTACH;FMTTYPE=image/webp:https://allevents.ug/wp-content/uploads/2026/03/IMG_5053.JPG.webp
END:VEVENT
BEGIN:VEVENT
DTSTART;TZID=Europe/Moscow:20260314T140000
DTEND;TZID=Europe/Moscow:20260314T233000
DTSTAMP:20260419T235043
CREATED:20260309T053018Z
LAST-MODIFIED:20260309T053018Z
UID:27564-1773496800-1773531000@allevents.ug
SUMMARY:Kasango Zonke
DESCRIPTION:Kampala’s nightlife continues to evolve. This time\, Kasango Zonke Kampala brings an unforgettable African electronic music experience to the city. \nOn Saturday\, March 14th\, party lovers will gather at The Villa in Bukoto for a night filled with rhythm\, culture\, and high-energy performances. The event promises a deep journey through afro-house\, amapiano\, techno\, and experimental African electronic sounds. \nFirst\, Zonke Africa sets the tone. The Kampala-based DJ collective has built a reputation for immersive performances and powerful storytelling through music. As a result\, their events deliver more than a party. Instead\, they create a full dancefloor experience where African electronic music takes center stage. \nIn addition\, Kampala’s top DJs will keep the energy alive all night. Expect electrifying sets from 2nyuke\, Melvyn\, Chapat\, Bugy\, Mato\, Jerry\, Kamali\, Kiyimba\, and Ames\, among others. Meanwhile\, MC Cute and MC Uganda will guide the crowd and maintain the vibe throughout the night. \nWhether you love deep afro-house grooves or amapiano rhythms\, Kasango Zonke offers the perfect soundtrack for a Saturday night in Kampala. \nTicket Information \nSingle Pass: UGX 60\,000Quad Access (5 Pax): UGX 250\,000VIP Access (5 Pax): UGX 500\,000 \n🎟 Tickets available at: www.junypypi.live \nEvent Details \n📅 Date: Saturday\, March 14th📍 Venue: The Villa\, Bukoto – Kampala📞 Table Reservations: 0784 720470
URL:https://allevents.ug/event/kasango-zonke/
LOCATION:The Villa\, Kampala\, Uganda
CATEGORIES:Concert
ATTACH;FMTTYPE=image/webp:https://allevents.ug/wp-content/uploads/2026/03/IMG_5728.JPG.webp
END:VEVENT
END:VCALENDAR