BEGIN:VCALENDAR
VERSION:2.0
PRODID:-//All Events Kampala - ECPv6.13.0//NONSGML v1.0//EN
CALSCALE:GREGORIAN
METHOD:PUBLISH
X-WR-CALNAME:All Events Kampala
X-ORIGINAL-URL:https://allevents.ug
X-WR-CALDESC:Events for All Events Kampala
REFRESH-INTERVAL;VALUE=DURATION:PT1H
X-Robots-Tag:noindex
X-PUBLISHED-TTL:PT1H
BEGIN:VTIMEZONE
TZID:Europe/Moscow
BEGIN:STANDARD
TZOFFSETFROM:+0300
TZOFFSETTO:+0300
TZNAME:MSK
DTSTART:20260101T000000
END:STANDARD
END:VTIMEZONE
BEGIN:VEVENT
DTSTART;TZID=Europe/Moscow:20260306T170000
DTEND;TZID=Europe/Moscow:20260306T233000
DTSTAMP:20260420T032423
CREATED:20260302T144248Z
LAST-MODIFIED:20260302T144248Z
UID:27406-1772816400-1772839800@allevents.ug
SUMMARY:Makoma Live in Kampala
DESCRIPTION:Kampala is set for an unforgettable night. On March 6th\, the legendary gospel group Makoma will perform live at Kololo Independence Grounds. \nThis exciting concert celebrates New Vision at 40. Therefore\, guests can expect powerful music\, vibrant energy\, and nonstop good vibes. \nIn addition\, the event promises a lively atmosphere filled with celebration and entertainment. Whether you love live music or simply enjoy great experiences\, this show will deliver something special. \n🎟 Ticket Categories:• Ordinary – UGX 50\,000• VIP – UGX 100\,000• VVIP – UGX 250\,000 \nMoreover\, guests who want a premium experience can reserve tables in advance. \n📞 Table Reservations: +256 758 961166 \nSo mark your calendar and secure your spot early. Join Makoma live in Kampala and celebrate 40 years of New Vision with music\, fun\, and unforgettable moments!
URL:https://allevents.ug/event/makoma-live-in-kampala/
LOCATION:Kololo Independence Grounds\, Kololo\, Kampala\, Uganda
CATEGORIES:Concert
ATTACH;FMTTYPE=image/webp:https://allevents.ug/wp-content/uploads/2026/03/IMG_4958.webp
END:VEVENT
END:VCALENDAR