BEGIN:VCALENDAR
VERSION:2.0
PRODID:-//All Events Kampala - ECPv6.13.0//NONSGML v1.0//EN
CALSCALE:GREGORIAN
METHOD:PUBLISH
X-ORIGINAL-URL:https://allevents.ug
X-WR-CALDESC:Events for All Events Kampala
REFRESH-INTERVAL;VALUE=DURATION:PT1H
X-Robots-Tag:noindex
X-PUBLISHED-TTL:PT1H
BEGIN:VTIMEZONE
TZID:Europe/Moscow
BEGIN:STANDARD
TZOFFSETFROM:+0300
TZOFFSETTO:+0300
TZNAME:MSK
DTSTART:20260101T000000
END:STANDARD
END:VTIMEZONE
BEGIN:VEVENT
DTSTART;TZID=Europe/Moscow:20260214T120000
DTEND;TZID=Europe/Moscow:20260214T220000
DTSTAMP:20260419T235118
CREATED:20260121T131150Z
LAST-MODIFIED:20260121T131150Z
UID:26959-1771070400-1771106400@allevents.ug
SUMMARY:Galentine’s Brunch
DESCRIPTION:Love looks better with the girls and on Saturday\, February 14th\, 2026\, Camelot Concepts brings Galentine’s Brunch to The Alchemist Bar & Restaurant. This girls-only celebration turns Valentine’s Day into a fun-filled daytime party. \nFirst\, this special edition marks February’s chapter of the monthly “Girls Just Wanna Have Fun” series. More importantly\, it also celebrates one full year of unforgettable memories. The journey started on Saturday\, February 15th\, at Tapas Gastro Bar. Since then\, the event has grown\, evolved\, and found a new home at The Alchemist. \nThis Valentine’s Day\, the energy goes higher. Expect nonstop fun\, great food\, refreshing drinks\, and feel-good vibes from start to finish. Even better\, you’ll enjoy the freedom to laugh\, dance\, and celebrate friendship without limits. \nSo\, skip the usual Valentine’s plans. Instead\, dress up\, bring your girls\, and toast to love\, laughter\, and sisterhood. Galentine’s Brunch promises nothing but joy\, connection\, and unforgettable moments. \nMore details to follow. Reach out to Camelot Concepts on all social media platforms for inquiries.
URL:https://allevents.ug/event/galentines-brunch/
LOCATION:The Alchemist Bar & Kitchen\, Plot 31A\, Bandali Rise\, Kampala\, Uganda
CATEGORIES:Brunch
ATTACH;FMTTYPE=image/jpeg:https://allevents.ug/wp-content/uploads/2026/01/cd05a8f8-7ed5-4cb5-b7b8-d2a26964a2b7.jpg
END:VEVENT
BEGIN:VEVENT
DTSTART;TZID=Europe/Moscow:20260214T133000
DTEND;TZID=Europe/Moscow:20260214T233000
DTSTAMP:20260419T235118
CREATED:20260128T160447Z
LAST-MODIFIED:20260128T160447Z
UID:27067-1771075800-1771111800@allevents.ug
SUMMARY:Valentine’s Day with A Pass
DESCRIPTION:Love is in the air\, and Pitchers Kampala is ready to celebrate it in style. On February 14th\, music lovers will gather for an unforgettable Valentine’s Day experience with A Pass. This special night promises romance\, entertainment\, and nonstop vibes. \nFirst\, A Pass will take the stage and perform his biggest love songs\, including fan favorites like Love Blood. Through his powerful vocals and emotional lyrics\, he will set the perfect mood for couples and music lovers alike. \nMeanwhile\, top Kampala DJs will keep the energy high throughout the night. City Girl\, Trizzy Vybz\, and LastGal will deliver back-to-back hits. In addition\, MCs OMI\, MCEE\, and OLGADAN will keep the crowd engaged and excited. \nBesides great music\, guests will enjoy delicious food\, refreshing drinks\, and a lively atmosphere. Therefore\, whether you come with your partner\, friends\, or loved ones\, you will experience a night filled with love and fun. \nMost importantly\, this event brings together romance and entertainment in one place. So\, don’t miss the chance to celebrate Valentine’s Day in a unique and memorable way. \n📍 Venue: Pitchers Kampala📅 Date: February 14th (Valentine’s Day)📞 Reservations: 0700 142000 \nBook your spot early and get ready to celebrate love with A Pass at Pitchers Kampala!
URL:https://allevents.ug/event/valentines-day-with-a-pass/
LOCATION:Pitchers\, Kampala\, Uganda
CATEGORIES:Show
ATTACH;FMTTYPE=image/webp:https://allevents.ug/wp-content/uploads/2026/01/IMG_2225.JPG.webp
END:VEVENT
BEGIN:VEVENT
DTSTART;TZID=Europe/Moscow:20260214T140000
DTEND;TZID=Europe/Moscow:20260214T233000
DTSTAMP:20260419T235118
CREATED:20260127T143829Z
LAST-MODIFIED:20260127T143829Z
UID:27031-1771077600-1771111800@allevents.ug
SUMMARY:Love & Affection Valentine’s Dinner at Casa Solada Hotel
DESCRIPTION:Love deserves to be celebrated in a special way. Therefore\, this Valentine’s Day\, Casa Solada Hotel invites couples to enjoy an unforgettable evening of romance\, food\, and entertainment. On February 14th\, join your partner for Love & Affection at Casa Solada Hotel. This exclusive Valentine’s experience creates the perfect setting for love\, connection\, and beautiful memories. \nTo begin with\, every guest receives a carefully prepared three-course dinner. In addition\, the package includes a complimentary glass of house wine and a rose flower for every lady. As a result\, couples can enjoy a complete romantic experience from the moment they arrive. \nMoreover\, the night does not stop at dinner. Guests will also enjoy exciting entertainment\, great music\, refreshing drinks\, and vibrant Valentine’s vibes till late. Consequently\, every moment feels special and memorable. \nWhether you are celebrating new love or lasting commitment\, Casa Solada Hotel offers the perfect place to share your story. \nEvent Details: \n📅 Date: February 14th\, Valentine’s Day💰 Entrance: UGX 200\,000 per person (includes dinner and wine)📍 Venue: Casa Solada Hotel\, Kampala📞 Reservations: 0709 753938 \nDo not wait until seats run out. Reserve your table today and give your partner a Valentine’s celebration they will never forget.
URL:https://allevents.ug/event/love-affection-valentines-dinner-at-casa-solada-hotel/
LOCATION:Casa Solada Hotel\, Kampala\, Uganda
CATEGORIES:Brunch
ATTACH;FMTTYPE=image/webp:https://allevents.ug/wp-content/uploads/2026/01/IMG_2211.JPG.webp
END:VEVENT
BEGIN:VEVENT
DTSTART;TZID=Europe/Moscow:20260214T140000
DTEND;TZID=Europe/Moscow:20260214T233000
DTSTAMP:20260419T235118
CREATED:20260127T145356Z
LAST-MODIFIED:20260127T145356Z
UID:27037-1771077600-1771111800@allevents.ug
SUMMARY:Irene Ntale Live On Valentine’s Day Concert at Golden Hill
DESCRIPTION:Valentine’s Day deserves something special. This year\, Golden Hill Bar and Restaurant in Muyenga brings you an unforgettable night with Irene Ntale Live in Concert on February 14th. \nFirst\, enjoy a romantic atmosphere. Then\, relax with great food and drinks. Finally\, fall in love all over again with beautiful live music. \nIrene Ntale will perform her most loved romantic ballads. She will sing fan favorites like Sembera\, Nkubukinze\, Gyobera\, He Go\, and Love Letter. With her angelic voice and live band\, she will create the perfect mood for lovers and music fans. \nWhether you come with your partner or your friends\, this night promises unforgettable memories. Most importantly\, Golden Hill offers the perfect setting for love\, laughter\, and celebration. \nEvent Details: \n📅 Date: February 14th\, Valentine’s Day📍 Venue: Golden Hill Bar & Restaurant\, Muyenga💑 Couples: UGX 30\,000👤 Singles: UGX 20\,000📞 Reservations: 0761 243813 \nDon’t wait too long. Book your space early and enjoy a magical Valentine’s night with Irene Ntale. Celebrate love\, music\, and great vibes in Muyenga!
URL:https://allevents.ug/event/irene-ntale-live-on-valentines-day-concert-at-golden-hill/
LOCATION:Golden Hill Restaurant & Lounge\, Tank Hill Road\, Muyenga\, Kampala\, Uganda
CATEGORIES:Show
ATTACH;FMTTYPE=image/webp:https://allevents.ug/wp-content/uploads/2026/01/IMG_2210.JPG.webp
END:VEVENT
BEGIN:VEVENT
DTSTART;TZID=Europe/Moscow:20260214T143000
DTEND;TZID=Europe/Moscow:20260214T233000
DTSTAMP:20260419T235118
CREATED:20260210T142150Z
LAST-MODIFIED:20260210T142150Z
UID:27157-1771079400-1771111800@allevents.ug
SUMMARY:Valentine in Texas at Paradigm Kampala
DESCRIPTION:Love takes center stage this Valentine’s Day in Kampala. On Sunday\, February 14th\, Paradigm Kampala presents Valentine in Texas\, a romantic celebration with a bold Texas twist. \nThis special event brings together love\, music\, and unforgettable vibes. Therefore\, couples and friends can expect an exciting atmosphere filled with passion and energy. In addition\, the Texas-inspired theme adds a unique touch to your Valentine’s experience. \nMoreover\, Kampala’s best entertainers will light up the stage. They will deliver powerful performances that keep the mood lively all night. As a result\, every guest will feel the magic of love and celebration. \nWhether you come with your partner or your friends\, Valentine in Texas promises memories that last forever. Most importantly\, it creates the perfect setting for romance and connection. \nMore details will follow soon. However\, one thing remains certain—this will be Kampala’s ultimate Valentine’s celebration. \nSave the date and prepare for love\, music\, and unforgettable moments at Paradigm Kampala. ❤️ \n\nTags\nValentine in Texas\, Valentine’s Day Kampala\, Kampala events\, Paradigm Kampala\, romantic events Uganda\, Valentine parties Kampala\, couples events Uganda\, nightlife Kampala\, love events Kampala\, February 14 events Uganda
URL:https://allevents.ug/event/valentine-in-texas-at-paradigm-kampala/
LOCATION:Paradigm Bar & Lounge\, Kansanga\, Kampala\, Uganda
CATEGORIES:Brunch
ATTACH;FMTTYPE=image/jpeg:https://allevents.ug/wp-content/uploads/2026/02/WhatsApp-Image-2026-02-09-at-14.20.20.jpeg
END:VEVENT
BEGIN:VEVENT
DTSTART;TZID=Europe/Moscow:20260214T163000
DTEND;TZID=Europe/Moscow:20260214T233000
DTSTAMP:20260419T235118
CREATED:20260120T080207Z
LAST-MODIFIED:20260120T080207Z
UID:26905-1771086600-1771111800@allevents.ug
SUMMARY:10 Years of Kenneth Mugabi
DESCRIPTION:Kenneth Mugabi marks a major milestone in his musical journey. On February 14th\, 2026\, he celebrates 10 years of music with an intimate concert at Ndere Cultural Centre. This special edition brings fans closer to the music\, the stories\, and the emotions that define his sound. \nBecause the date falls on Valentine’s Day\, the evening promises a deep focus on love. Mugabi’s soulful voice will set the mood\, while his timeless love songs create a warm and romantic atmosphere. From heartfelt ballads to fan favorites\, every performance will speak directly to the heart. \nMoreover\, this concert goes beyond a typical live show. Mugabi connects with his audience through storytelling\, emotion\, and raw musical expression. As a result\, fans can expect laughter\, reflection\, and unforgettable moments throughout the night. The intimate setting at Ndere Centre will only deepen that connection. \nIn addition\, this celebration honors a decade of growth\, artistry\, and cultural impact. Mugabi’s music continues to reflect real experiences\, making each song feel personal and relatable. Therefore\, this concert will feel less like a performance and more like a shared moment of love and music. \nWhether you attend with a partner or celebrate self-love\, this event offers the perfect Valentine’s Day experience. \n\n📅 Date: February 14th\, 2026⏰ Time: Evening📍 Venue: Ndere Cultural Centre\, Kampala🎫 Tickets: UGX 100\,000🎟 Tickets available at: www.kennethmugabi.com \nDon’t wait too long. Secure your ticket early and celebrate love through music with Kenneth Mugabi.
URL:https://allevents.ug/event/10-years-of-kenneth-mugabi/
LOCATION:Ndere Cultural Center\, Ntinda\, Kampala\, Uganda
CATEGORIES:Concert
ATTACH;FMTTYPE=image/jpeg:https://allevents.ug/wp-content/uploads/2026/01/IMG_2065.jpg
END:VEVENT
BEGIN:VEVENT
DTSTART;TZID=Europe/Moscow:20260214T170000
DTEND;TZID=Europe/Moscow:20260214T233000
DTSTAMP:20260419T235118
CREATED:20260203T083518Z
LAST-MODIFIED:20260203T083518Z
UID:27142-1771088400-1771111800@allevents.ug
SUMMARY:Lovers Sesh with Ya Levis
DESCRIPTION:Love takes center stage this Valentine’s Day in Kampala. On 14th February\, 2026\, music lovers will gather at Mestil Hotel for Lovers Sesh with Ya Levis. This exclusive event promises romance\, rhythm\, and unforgettable memories. \nFirst\, expect a night filled with passion and emotion. Ya Levis will perform his biggest love songs\, including “Katchua\,” “Penalty\,” “Pickamo\,” “Aicha\,” “My Love\,” and “Je T’aime.” As a result\, couples and music lovers will connect deeply through every melody and lyric. \nMoreover\, Ganda Vibes has carefully curated this experience to create the perfect Valentine’s atmosphere. From smooth lighting to intimate seating\, every detail will enhance the mood. Therefore\, guests will enjoy a relaxed\, classy\, and romantic environment from start to finish. \nIn addition\, Lovers Sesh offers flexible ticket options for everyone. Whether you attend alone\, with your partner\, or with friends\, you will find the right package. Most importantly\, early booking guarantees you the best experience. \n📅 Date: February 14th\, 2026 (Valentine’s Day)⏰ Time: Evening till late📍 Venue: Mestil Hotel\, Kampala \nTickets: \n\n\nAdvance: UGX 100\,000 \n\n\nCouples Advance: UGX 150\,000 \n\n\nTable of 6: UGX 2\,500\,000 \n\n\n📞 Reservations: 0793 341320 \nFinally\, don’t let this special night pass you by. Reserve your tickets early and celebrate love with Ya Levis in the most romantic setting in Kampala. Join Lovers Sesh and create memories that will last forever.
URL:https://allevents.ug/event/lovers-sesh-with-ya-levis/
LOCATION:Mestil Hotel Residences\, Kampala\, Uganda
CATEGORIES:Concert
ATTACH;FMTTYPE=image/webp:https://allevents.ug/wp-content/uploads/2026/02/IMG_2596.JPG.webp
END:VEVENT
END:VCALENDAR